BEGIN:VCALENDAR
VERSION:2.0
PRODID:-//Town of Southey - ECPv6.15.20//NONSGML v1.0//EN
CALSCALE:GREGORIAN
METHOD:PUBLISH
X-WR-CALNAME:Town of Southey
X-ORIGINAL-URL:https://southey.ca
X-WR-CALDESC:Events for Town of Southey
REFRESH-INTERVAL;VALUE=DURATION:PT1H
X-Robots-Tag:noindex
X-PUBLISHED-TTL:PT1H
BEGIN:VTIMEZONE
TZID:America/Regina
BEGIN:STANDARD
TZOFFSETFROM:-0600
TZOFFSETTO:-0600
TZNAME:CST
DTSTART:20210101T000000
END:STANDARD
END:VTIMEZONE
BEGIN:VEVENT
DTSTART;TZID=America/Regina:20221221T080000
DTEND;TZID=America/Regina:20221221T170000
DTSTAMP:20260422T155206
CREATED:20220825T215942Z
LAST-MODIFIED:20220825T215942Z
UID:8596-1671609600-1671642000@southey.ca
SUMMARY:Foot Care Clinic
DESCRIPTION:
URL:https://southey.ca/event/foot-care-clinic-3/
LOCATION:Southey Health Center\, 290 Keats Street\, Southey\, S0G 4P0\, Canada
ORGANIZER;CN="Terra Shaw":MAILTO:terrashawfootcare@hotmail.com
END:VEVENT
BEGIN:VEVENT
DTSTART;TZID=America/Regina:20221221T200000
DTEND;TZID=America/Regina:20221221T203000
DTSTAMP:20260422T155206
CREATED:20220826T170834Z
LAST-MODIFIED:20220826T170834Z
UID:8652-1671652800-1671654600@southey.ca
SUMMARY:AA Meeting
DESCRIPTION:
URL:https://southey.ca/event/aa-meeting-18/
LOCATION:Southey United Church\, 185 Highway 6\, Southey\, SK\, S0G 4P0\, Canada
ORGANIZER;CN="Alcoholics Anonymous Regina":MAILTO:a.a@sasktel.net
END:VEVENT
BEGIN:VEVENT
DTSTART;TZID=America/Regina:20221226T080000
DTEND;TZID=America/Regina:20221227T170000
DTSTAMP:20260422T155206
CREATED:20220826T174028Z
LAST-MODIFIED:20220826T174028Z
UID:8666-1672041600-1672160400@southey.ca
SUMMARY:Office Closed- Stat Holidays
DESCRIPTION:
URL:https://southey.ca/event/office-closed-stat-holidays/
LOCATION:Town of Southey Office\, 260 Keats Street\, Southey\, SK.\, S0G 4P0\, Canada
END:VEVENT
BEGIN:VEVENT
DTSTART;TZID=America/Regina:20221227T070000
DTEND;TZID=America/Regina:20221227T170000
DTSTAMP:20260422T155206
CREATED:20220825T213750Z
LAST-MODIFIED:20220825T213801Z
UID:8560-1672124400-1672160400@southey.ca
SUMMARY:Recycling Day
DESCRIPTION:
URL:https://southey.ca/event/recycling-day-8/
LOCATION:Town of Southey\, 260 Keats Street\, Southey\, SK\, S0G 4P0\, Canada
END:VEVENT
BEGIN:VEVENT
DTSTART;TZID=America/Regina:20221228T070000
DTEND;TZID=America/Regina:20221228T170000
DTSTAMP:20260422T155206
CREATED:20220825T214244Z
LAST-MODIFIED:20220825T214245Z
UID:8576-1672210800-1672246800@southey.ca
SUMMARY:Garbage Day
DESCRIPTION:
URL:https://southey.ca/event/garbage-day-18/
LOCATION:Town of Southey\, 260 Keats Street\, Southey\, SK\, S0G 4P0\, Canada
END:VEVENT
BEGIN:VEVENT
DTSTART;TZID=America/Regina:20221228T200000
DTEND;TZID=America/Regina:20221228T203000
DTSTAMP:20260422T155206
CREATED:20220826T170918Z
LAST-MODIFIED:20220826T170918Z
UID:8654-1672257600-1672259400@southey.ca
SUMMARY:AA Meeting
DESCRIPTION:
URL:https://southey.ca/event/aa-meeting-19/
LOCATION:Southey United Church\, 185 Highway 6\, Southey\, SK\, S0G 4P0\, Canada
CATEGORIES:Health Services
ORGANIZER;CN="Alcoholics Anonymous Regina":MAILTO:a.a@sasktel.net
END:VEVENT
BEGIN:VEVENT
DTSTART;TZID=America/Regina:20221229T190000
DTEND;TZID=America/Regina:20221229T193000
DTSTAMP:20260422T155206
CREATED:20220826T160919Z
LAST-MODIFIED:20220826T160928Z
UID:8620-1672340400-1672342200@southey.ca
SUMMARY:Legion Meeting
DESCRIPTION:
URL:https://southey.ca/event/legion-meeting-4/
LOCATION:SK
ORGANIZER;CN="Royal Canadian Legion Southey Branch #350":MAILTO:southeylegion@yahoo.ca
END:VEVENT
BEGIN:VEVENT
DTSTART;TZID=America/Regina:20230102T080000
DTEND;TZID=America/Regina:20230102T170000
DTSTAMP:20260422T155206
CREATED:20220826T174158Z
LAST-MODIFIED:20220826T174158Z
UID:8668-1672646400-1672678800@southey.ca
SUMMARY:Stat Holiday - Office Closed
DESCRIPTION:
URL:https://southey.ca/event/stat-holiday-office-closed/
LOCATION:Town of Southey Office\, 260 Keats Street\, Southey\, SK.\, S0G 4P0\, Canada
END:VEVENT
BEGIN:VEVENT
DTSTART;TZID=America/Regina:20230128T080000
DTEND;TZID=America/Regina:20230128T170000
DTSTAMP:20260422T155206
CREATED:20220825T215606Z
LAST-MODIFIED:20220826T144955Z
UID:8588-1674892800-1674925200@southey.ca
SUMMARY:The Dental Connection
DESCRIPTION:
URL:https://southey.ca/event/the-dental-connection-8/
LOCATION:Southey Health Center\, 290 Keats Street\, Southey\, S0G 4P0\, Canada
CATEGORIES:Health Services
END:VEVENT
BEGIN:VEVENT
DTSTART;TZID=America/Regina:20230129T080000
DTEND;TZID=America/Regina:20230129T170000
DTSTAMP:20260422T155206
CREATED:20220825T215635Z
LAST-MODIFIED:20220826T145023Z
UID:8590-1674979200-1675011600@southey.ca
SUMMARY:The Dental Connection
DESCRIPTION:
URL:https://southey.ca/event/the-dental-connection-9/
LOCATION:Southey Health Center\, 290 Keats Street\, Southey\, S0G 4P0\, Canada
CATEGORIES:Health Services
END:VEVENT
BEGIN:VEVENT
DTSTART;TZID=America/Regina:20241109T100000
DTEND;TZID=America/Regina:20241109T160000
DTSTAMP:20260422T155206
CREATED:20241025T144739Z
LAST-MODIFIED:20241025T144821Z
UID:9437-1731146400-1731168000@southey.ca
SUMMARY:Election for Mayor
DESCRIPTION:Election for Mayor Advanced Poll
URL:https://southey.ca/event/election-for-mayor/
LOCATION:SK
END:VEVENT
BEGIN:VEVENT
DTSTART;TZID=America/Regina:20241113T090000
DTEND;TZID=America/Regina:20241113T200000
DTSTAMP:20260422T155206
CREATED:20241025T145507Z
LAST-MODIFIED:20241025T145509Z
UID:9439-1731488400-1731528000@southey.ca
SUMMARY:Election Day For Mayor
DESCRIPTION:Notice of Poll Municipal Elections 2024 for Mayor
URL:https://southey.ca/event/election-day-for-mayor/
LOCATION:Memorial Hall\, Keats Street\, Southey\, Saskatchewan\, Canada
END:VEVENT
BEGIN:VEVENT
DTSTART;TZID=America/Regina:20250510T080000
DTEND;TZID=America/Regina:20250510T170000
DTSTAMP:20260422T155206
CREATED:20250409T165719Z
LAST-MODIFIED:20250409T165720Z
UID:9607-1746864000-1746896400@southey.ca
SUMMARY:TOWN GARAGE SALE
DESCRIPTION:
URL:https://southey.ca/event/town-garage-sale/
LOCATION:SK
END:VEVENT
END:VCALENDAR