BEGIN:VCALENDAR
VERSION:2.0
PRODID:-//Town of Southey - ECPv6.15.20//NONSGML v1.0//EN
CALSCALE:GREGORIAN
METHOD:PUBLISH
X-WR-CALNAME:Town of Southey
X-ORIGINAL-URL:https://southey.ca
X-WR-CALDESC:Events for Town of Southey
REFRESH-INTERVAL;VALUE=DURATION:PT1H
X-Robots-Tag:noindex
X-PUBLISHED-TTL:PT1H
BEGIN:VTIMEZONE
TZID:America/Regina
BEGIN:STANDARD
TZOFFSETFROM:-0600
TZOFFSETTO:-0600
TZNAME:CST
DTSTART:20210101T000000
END:STANDARD
END:VTIMEZONE
BEGIN:VEVENT
DTSTART;TZID=America/Regina:20221102T200000
DTEND;TZID=America/Regina:20221102T203000
DTSTAMP:20260422T224746
CREATED:20220826T165130Z
LAST-MODIFIED:20220826T170659Z
UID:8633-1667419200-1667421000@southey.ca
SUMMARY:AA Meeting
DESCRIPTION:
URL:https://southey.ca/event/aa-meeting-11/
CATEGORIES:Health Services
ORGANIZER;CN="Alcoholics Anonymous Regina":MAILTO:a.a@sasktel.net
END:VEVENT
BEGIN:VEVENT
DTSTART;TZID=America/Regina:20221104T090000
DTEND;TZID=America/Regina:20221104T100000
DTSTAMP:20260422T224746
CREATED:20220826T174605Z
LAST-MODIFIED:20220826T174605Z
UID:8674-1667552400-1667556000@southey.ca
SUMMARY:Forever In Motion - Jessica
DESCRIPTION:
URL:https://southey.ca/event/forever-in-motion-jessica-12/
LOCATION:Southey Seniors Center\, 132 Keats Street\, Southey\, SK\, S0G 4P0\, Canada
CATEGORIES:Health Services
END:VEVENT
BEGIN:VEVENT
DTSTART;TZID=America/Regina:20221107T090000
DTEND;TZID=America/Regina:20221107T100000
DTSTAMP:20260422T224746
CREATED:20220826T174655Z
LAST-MODIFIED:20220826T174656Z
UID:8676-1667811600-1667815200@southey.ca
SUMMARY:Forever In Motion - Jessica
DESCRIPTION:
URL:https://southey.ca/event/forever-in-motion-jessica-13/
CATEGORIES:Health Services
END:VEVENT
BEGIN:VEVENT
DTSTART;TZID=America/Regina:20221109T080000
DTEND;TZID=America/Regina:20221109T170000
DTSTAMP:20260422T224746
CREATED:20220825T215906Z
LAST-MODIFIED:20220825T215907Z
UID:8592-1667980800-1668013200@southey.ca
SUMMARY:Foot Care Clinic
DESCRIPTION:
URL:https://southey.ca/event/foot-care-clinic-2/
LOCATION:Southey Health Center\, 290 Keats Street\, Southey\, S0G 4P0\, Canada
CATEGORIES:Health Services
ORGANIZER;CN="Terra Shaw":MAILTO:terrashawfootcare@hotmail.com
END:VEVENT
BEGIN:VEVENT
DTSTART;TZID=America/Regina:20221109T090000
DTEND;TZID=America/Regina:20221109T100000
DTSTAMP:20260422T224746
CREATED:20220826T174928Z
LAST-MODIFIED:20220826T174928Z
UID:8680-1667984400-1667988000@southey.ca
SUMMARY:Forever In Motion - Jessica
DESCRIPTION:
URL:https://southey.ca/event/forever-in-motion-jessica-14/
CATEGORIES:Health Services
END:VEVENT
BEGIN:VEVENT
DTSTART;TZID=America/Regina:20221114T090000
DTEND;TZID=America/Regina:20221114T100000
DTSTAMP:20260422T224746
CREATED:20220826T175059Z
LAST-MODIFIED:20220826T175059Z
UID:8684-1668416400-1668420000@southey.ca
SUMMARY:Forever In Motion - Jessica
DESCRIPTION:
URL:https://southey.ca/event/forever-in-motion-jessica-16/
LOCATION:Southey Seniors Center\, 132 Keats Street\, Southey\, SK\, S0G 4P0\, Canada
CATEGORIES:Health Services
END:VEVENT
BEGIN:VEVENT
DTSTART;TZID=America/Regina:20221115T093000
DTEND;TZID=America/Regina:20221115T103000
DTSTAMP:20260422T224746
CREATED:20220826T175152Z
LAST-MODIFIED:20220826T175152Z
UID:8686-1668504600-1668508200@southey.ca
SUMMARY:Forever In Motion - Don
DESCRIPTION:
URL:https://southey.ca/event/forever-in-motion-don-7/
LOCATION:Southey Seniors Center\, 132 Keats Street\, Southey\, SK\, S0G 4P0\, Canada
CATEGORIES:Health Services
END:VEVENT
BEGIN:VEVENT
DTSTART;TZID=America/Regina:20221116T090000
DTEND;TZID=America/Regina:20221116T100000
DTSTAMP:20260422T224746
CREATED:20220826T175234Z
LAST-MODIFIED:20220826T175235Z
UID:8688-1668589200-1668592800@southey.ca
SUMMARY:Forever In Motion - Jessica
DESCRIPTION:
URL:https://southey.ca/event/forever-in-motion-jessica-17/
LOCATION:Southey Seniors Center\, 132 Keats Street\, Southey\, SK\, S0G 4P0\, Canada
CATEGORIES:Health Services
END:VEVENT
BEGIN:VEVENT
DTSTART;TZID=America/Regina:20221116T200000
DTEND;TZID=America/Regina:20221116T203000
DTSTAMP:20260422T224746
CREATED:20220826T165338Z
LAST-MODIFIED:20220826T170644Z
UID:8641-1668628800-1668630600@southey.ca
SUMMARY:AA Meeting
DESCRIPTION:
URL:https://southey.ca/event/aa-meeting-14/
LOCATION:Southey United Church\, 185 Highway 6\, Southey\, SK\, S0G 4P0\, Canada
CATEGORIES:Health Services
ORGANIZER;CN="Alcoholics Anonymous Regina":MAILTO:a.a@sasktel.net
END:VEVENT
BEGIN:VEVENT
DTSTART;TZID=America/Regina:20221118T090000
DTEND;TZID=America/Regina:20221118T100000
DTSTAMP:20260422T224746
CREATED:20220826T175717Z
LAST-MODIFIED:20220826T175718Z
UID:8692-1668762000-1668765600@southey.ca
SUMMARY:Forever In Motion - Jessica
DESCRIPTION:
URL:https://southey.ca/event/forever-in-motion-jessica-18/
LOCATION:Southey Seniors Center\, 132 Keats Street\, Southey\, SK\, S0G 4P0\, Canada
CATEGORIES:Health Services
END:VEVENT
BEGIN:VEVENT
DTSTART;TZID=America/Regina:20221121T090000
DTEND;TZID=America/Regina:20221121T100000
DTSTAMP:20260422T224746
CREATED:20220826T195012Z
LAST-MODIFIED:20220826T195012Z
UID:8696-1669021200-1669024800@southey.ca
SUMMARY:Forever In Motion - Jessica
DESCRIPTION:
URL:https://southey.ca/event/forever-in-motion-jessica-19/
LOCATION:Southey Seniors Center\, 132 Keats Street\, Southey\, SK\, S0G 4P0\, Canada
CATEGORIES:Health Services
END:VEVENT
BEGIN:VEVENT
DTSTART;TZID=America/Regina:20221122T093000
DTEND;TZID=America/Regina:20221122T103000
DTSTAMP:20260422T224746
CREATED:20220826T195110Z
LAST-MODIFIED:20220826T195110Z
UID:8698-1669109400-1669113000@southey.ca
SUMMARY:Forever In Motion - Don
DESCRIPTION:
URL:https://southey.ca/event/forever-in-motion-don-8/
LOCATION:Southey Seniors Center\, 132 Keats Street\, Southey\, SK\, S0G 4P0\, Canada
CATEGORIES:Health Services
END:VEVENT
BEGIN:VEVENT
DTSTART;TZID=America/Regina:20221123T090000
DTEND;TZID=America/Regina:20221123T100000
DTSTAMP:20260422T224746
CREATED:20220826T195144Z
LAST-MODIFIED:20220826T195144Z
UID:8700-1669194000-1669197600@southey.ca
SUMMARY:Forever In Motion - Jessica
DESCRIPTION:
URL:https://southey.ca/event/forever-in-motion-jessica-20/
LOCATION:Southey Seniors Center\, 132 Keats Street\, Southey\, SK\, S0G 4P0\, Canada
CATEGORIES:Health Services
END:VEVENT
BEGIN:VEVENT
DTSTART;TZID=America/Regina:20221123T200000
DTEND;TZID=America/Regina:20221123T203000
DTSTAMP:20260422T224746
CREATED:20220826T165432Z
LAST-MODIFIED:20220826T170633Z
UID:8643-1669233600-1669235400@southey.ca
SUMMARY:AA Meeting
DESCRIPTION:
URL:https://southey.ca/event/aa-meeting-15/
LOCATION:Southey United Church\, 185 Highway 6\, Southey\, SK\, S0G 4P0\, Canada
CATEGORIES:Health Services
ORGANIZER;CN="Alcoholics Anonymous Regina":MAILTO:a.a@sasktel.net
END:VEVENT
BEGIN:VEVENT
DTSTART;TZID=America/Regina:20221125T090000
DTEND;TZID=America/Regina:20221125T100000
DTSTAMP:20260422T224746
CREATED:20220826T195221Z
LAST-MODIFIED:20220826T195221Z
UID:8702-1669366800-1669370400@southey.ca
SUMMARY:Forever In Motion - Jessica
DESCRIPTION:
URL:https://southey.ca/event/forever-in-motion-jessica-21/
LOCATION:Southey Seniors Center\, 132 Keats Street\, Southey\, SK\, S0G 4P0\, Canada
CATEGORIES:Health Services
END:VEVENT
BEGIN:VEVENT
DTSTART;TZID=America/Regina:20221126T080000
DTEND;TZID=America/Regina:20221126T170000
DTSTAMP:20260422T224746
CREATED:20220825T214533Z
LAST-MODIFIED:20220825T214534Z
UID:8578-1669449600-1669482000@southey.ca
SUMMARY:The Dental Connection
DESCRIPTION:
URL:https://southey.ca/event/the-dental-connection-3/
LOCATION:Southey Health Center\, 290 Keats Street\, Southey\, S0G 4P0\, Canada
CATEGORIES:Health Services
END:VEVENT
BEGIN:VEVENT
DTSTART;TZID=America/Regina:20221128T080000
DTEND;TZID=America/Regina:20221128T170000
DTSTAMP:20260422T224746
CREATED:20220825T215001Z
LAST-MODIFIED:20220825T215001Z
UID:8582-1669622400-1669654800@southey.ca
SUMMARY:The Dental Connection
DESCRIPTION:
URL:https://southey.ca/event/the-dental-connection-5/
LOCATION:Southey Health Center\, 290 Keats Street\, Southey\, S0G 4P0\, Canada
CATEGORIES:Health Services
END:VEVENT
BEGIN:VEVENT
DTSTART;TZID=America/Regina:20221128T090000
DTEND;TZID=America/Regina:20221128T100000
DTSTAMP:20260422T224746
CREATED:20220826T195328Z
LAST-MODIFIED:20220826T195328Z
UID:8704-1669626000-1669629600@southey.ca
SUMMARY:Forever In Motion - Jessica
DESCRIPTION:
URL:https://southey.ca/event/forever-in-motion-jessica-22/
LOCATION:Southey Seniors Center\, 132 Keats Street\, Southey\, SK\, S0G 4P0\, Canada
CATEGORIES:Health Services
END:VEVENT
BEGIN:VEVENT
DTSTART;TZID=America/Regina:20221129T093000
DTEND;TZID=America/Regina:20221129T103000
DTSTAMP:20260422T224746
CREATED:20220826T195415Z
LAST-MODIFIED:20220826T195415Z
UID:8706-1669714200-1669717800@southey.ca
SUMMARY:Forever In Motion - Don
DESCRIPTION:
URL:https://southey.ca/event/forever-in-motion-don-9/
LOCATION:Southey Seniors Center\, 132 Keats Street\, Southey\, SK\, S0G 4P0\, Canada
CATEGORIES:Health Services
END:VEVENT
BEGIN:VEVENT
DTSTART;TZID=America/Regina:20221130T090000
DTEND;TZID=America/Regina:20221130T100000
DTSTAMP:20260422T224746
CREATED:20220826T200854Z
LAST-MODIFIED:20220826T200855Z
UID:8708-1669798800-1669802400@southey.ca
SUMMARY:Forever In Motion - Jessica
DESCRIPTION:
URL:https://southey.ca/event/forever-in-motion-jessica-23/
LOCATION:Southey Seniors Center\, 132 Keats Street\, Southey\, SK\, S0G 4P0\, Canada
CATEGORIES:Health Services
END:VEVENT
BEGIN:VEVENT
DTSTART;TZID=America/Regina:20221130T200000
DTEND;TZID=America/Regina:20221130T203000
DTSTAMP:20260422T224746
CREATED:20220826T165520Z
LAST-MODIFIED:20220826T170614Z
UID:8647-1669838400-1669840200@southey.ca
SUMMARY:AA Meeting
DESCRIPTION:
URL:https://southey.ca/event/aa-meeting-16/
LOCATION:Southey United Church\, 185 Highway 6\, Southey\, SK\, S0G 4P0\, Canada
CATEGORIES:Health Services
ORGANIZER;CN="Alcoholics Anonymous Regina":MAILTO:a.a@sasktel.net
END:VEVENT
BEGIN:VEVENT
DTSTART;TZID=America/Regina:20221202T090000
DTEND;TZID=America/Regina:20221202T100000
DTSTAMP:20260422T224746
CREATED:20220826T211435Z
LAST-MODIFIED:20220826T211435Z
UID:8710-1669971600-1669975200@southey.ca
SUMMARY:Forever In Motion - Jessica
DESCRIPTION:
URL:https://southey.ca/event/forever-in-motion-jessica-24/
LOCATION:Southey Seniors Center\, 132 Keats Street\, Southey\, SK\, S0G 4P0\, Canada
CATEGORIES:Health Services
END:VEVENT
BEGIN:VEVENT
DTSTART;TZID=America/Regina:20221205T090000
DTEND;TZID=America/Regina:20221205T100000
DTSTAMP:20260422T224746
CREATED:20220826T211530Z
LAST-MODIFIED:20220826T211530Z
UID:8712-1670230800-1670234400@southey.ca
SUMMARY:Forever In Motion - Jessica
DESCRIPTION:
URL:https://southey.ca/event/forever-in-motion-jessica-25/
LOCATION:Southey Seniors Center\, 132 Keats Street\, Southey\, SK\, S0G 4P0\, Canada
CATEGORIES:Health Services
END:VEVENT
BEGIN:VEVENT
DTSTART;TZID=America/Regina:20221206T093000
DTEND;TZID=America/Regina:20221206T103000
DTSTAMP:20260422T224746
CREATED:20220826T211609Z
LAST-MODIFIED:20220826T211610Z
UID:8714-1670319000-1670322600@southey.ca
SUMMARY:Forever In Motion - Don
DESCRIPTION:
URL:https://southey.ca/event/forever-in-motion-don-10/
CATEGORIES:Health Services
END:VEVENT
BEGIN:VEVENT
DTSTART;TZID=America/Regina:20221207T090000
DTEND;TZID=America/Regina:20221207T100000
DTSTAMP:20260422T224746
CREATED:20220826T211646Z
LAST-MODIFIED:20220826T211646Z
UID:8716-1670403600-1670407200@southey.ca
SUMMARY:Forever In Motion - Jessica
DESCRIPTION:
URL:https://southey.ca/event/forever-in-motion-jessica-26/
CATEGORIES:Health Services
END:VEVENT
BEGIN:VEVENT
DTSTART;TZID=America/Regina:20221207T200000
DTEND;TZID=America/Regina:20221207T203000
DTSTAMP:20260422T224746
CREATED:20220826T165301Z
LAST-MODIFIED:20220826T170353Z
UID:8639-1670443200-1670445000@southey.ca
SUMMARY:AA Meeting
DESCRIPTION:
URL:https://southey.ca/event/aa-meeting-13/
LOCATION:Southey United Church\, 185 Highway 6\, Southey\, SK\, S0G 4P0\, Canada
CATEGORIES:Health Services
ORGANIZER;CN="Alcoholics Anonymous Regina":MAILTO:a.a@sasktel.net
END:VEVENT
BEGIN:VEVENT
DTSTART;TZID=America/Regina:20221209T090000
DTEND;TZID=America/Regina:20221209T100000
DTSTAMP:20260422T224746
CREATED:20220826T211736Z
LAST-MODIFIED:20220826T211737Z
UID:8718-1670576400-1670580000@southey.ca
SUMMARY:Forever In Motion - Jessica
DESCRIPTION:
URL:https://southey.ca/event/forever-in-motion-jessica-27/
LOCATION:Southey Seniors Center\, 132 Keats Street\, Southey\, SK\, S0G 4P0\, Canada
CATEGORIES:Health Services
END:VEVENT
BEGIN:VEVENT
DTSTART;TZID=America/Regina:20221211T080000
DTEND;TZID=America/Regina:20221211T170000
DTSTAMP:20260422T224746
CREATED:20220825T215503Z
LAST-MODIFIED:20220826T145220Z
UID:8584-1670745600-1670778000@southey.ca
SUMMARY:The Dental Connection
DESCRIPTION:
URL:https://southey.ca/event/the-dental-connection-6/
LOCATION:Southey Health Center\, 290 Keats Street\, Southey\, S0G 4P0\, Canada
CATEGORIES:Health Services
END:VEVENT
BEGIN:VEVENT
DTSTART;TZID=America/Regina:20221212T080000
DTEND;TZID=America/Regina:20221212T170000
DTSTAMP:20260422T224746
CREATED:20220825T215539Z
LAST-MODIFIED:20220826T145140Z
UID:8586-1670832000-1670864400@southey.ca
SUMMARY:The Dental Connection
DESCRIPTION:
URL:https://southey.ca/event/the-dental-connection-7/
LOCATION:Southey Health Center\, 290 Keats Street\, Southey\, S0G 4P0\, Canada
CATEGORIES:Health Services
END:VEVENT
BEGIN:VEVENT
DTSTART;TZID=America/Regina:20221212T090000
DTEND;TZID=America/Regina:20221212T100000
DTSTAMP:20260422T224746
CREATED:20220826T175015Z
LAST-MODIFIED:20220826T212019Z
UID:8682-1670835600-1670839200@southey.ca
SUMMARY:Forever In Motion - Jessica
DESCRIPTION:
URL:https://southey.ca/event/forever-in-motion-jessica-15/
LOCATION:Southey Seniors Center\, 132 Keats Street\, Southey\, SK\, S0G 4P0\, Canada
CATEGORIES:Health Services
END:VEVENT
END:VCALENDAR